BEGIN:VCALENDAR
VERSION:2.0
PRODID:-//Contratero//ES
CALSCALE:GREGORIAN
METHOD:PUBLISH
BEGIN:VEVENT
UID:Exp.: Serv-TFM-01/2025@contratero.es
DTSTAMP:20260419T161046Z
DTSTART:20250909T235959
DTEND:20250910T005959
SUMMARY:Cierre: Apoyo en la gestión de redes sociales y diseño de 
DESCRIPTION:Apoyo en la gestión de redes sociales y diseño de contenidos de las cuentas y programas gestionados por Viviendas Sociales e Infraestructuras de Canarias S.A.U. (VISOCAN) incluyendo su mantenimiento\, ...\\n\\nOrganismo: Gerencia de Viviendas Sociales e Infraestructuras de Canarias S.A.U.\\n\\nVer en Contratero: https://contratero.es/contracts/Exp.: Serv-TFM-01/2025
URL:https://contratero.es/contracts/Exp.: Serv-TFM-01/2025
STATUS:CONFIRMED
BEGIN:VALARM
TRIGGER:-P1D
ACTION:DISPLAY
DESCRIPTION:Recordatorio: Apoyo en la gestión de redes s
END:VALARM
END:VEVENT
END:VCALENDAR